{"text_format":"3","workbook":"xlsx","n_sheets":1,"sheets":["Sheet2 (2)"],"not_rendered":{"external_links":1,"defined_names":2},"read":"whole","date_system":"1900"}

{"sheet":"Sheet2 (2)","index":0,"n_rows":271,"n_cols":5,"rows_kept":271,"merged":[[0,0,0,4]]}
["三都水族自治县2020年统一面向社会公开招聘事业单位工作人员资格复审合格进入面试人员名单"]
["序号","姓名","准考证号","单位名称及代码","职位名称及代码"]
[1,{"$f":"VLOOKUP(C3,'[1] 排名'!$A$2:$N$1321,2,FALSE)","v":"陈星"},"33127250715","13001三都水族自治县巡察工作服务中心","01工作人员"]
[2,{"$f":"VLOOKUP(C4,'[1] 排名'!$A$2:$N$1321,2,FALSE)","v":"谢仁倩"},"33127252007","13001三都水族自治县巡察工作服务中心","01工作人员"]
[3,{"$f":"VLOOKUP(C5,'[1] 排名'!$A$2:$N$1321,2,FALSE)","v":"彭德勇"},"33127252325","13001三都水族自治县巡察工作服务中心","01工作人员"]
[4,{"$f":"VLOOKUP(C6,'[1] 排名'!$A$2:$N$1321,2,FALSE)","v":"吴玉笑"},"33127251803","13002三都水族自治县网络安全和信息化服务中心","01工作人员"]
[5,{"$f":"VLOOKUP(C7,'[1] 排名'!$A$2:$N$1321,2,FALSE)","v":"莫顺祝"},"33127251116","13002三都水族自治县网络安全和信息化服务中心","01工作人员"]
[6,{"$f":"VLOOKUP(C8,'[1] 排名'!$A$2:$N$1321,2,FALSE)","v":"梁运天"},"33127251825","13002三都水族自治县网络安全和信息化服务中心","01工作人员"]
[7,{"$f":"VLOOKUP(C9,'[1] 排名'!$A$2:$N$1321,2,FALSE)","v":"潘祥传"},"33127251424","13003三都水族自治县青年志愿者服务指导中心","01工作人员"]
[8,{"$f":"VLOOKUP(C10,'[1] 排名'!$A$2:$N$1321,2,FALSE)","v":"韦玉虎"},"33127250813","13003三都水族自治县青年志愿者服务指导中心","01工作人员"]
[9,{"$f":"VLOOKUP(C11,'[1] 排名'!$A$2:$N$1321,2,FALSE)","v":"王金考"},"33127251805","13003三都水族自治县青年志愿者服务指导中心","01工作人员"]
[10,{"$f":"VLOOKUP(C12,'[1] 排名'!$A$2:$N$1321,2,FALSE)","v":"韦荣社"},"33127251822","13004三都水族自治县体育运动服务中心","01工作人员"]
[11,{"$f":"VLOOKUP(C13,'[1] 排名'!$A$2:$N$1321,2,FALSE)","v":"王昆"},"33127252022","13004三都水族自治县体育运动服务中心","01工作人员"]
[12,{"$f":"VLOOKUP(C14,'[1] 排名'!$A$2:$N$1321,2,FALSE)","v":"马长源"},"33127250510","13004三都水族自治县体育运动服务中心","01工作人员"]
[13,{"$f":"VLOOKUP(C15,'[1] 排名'!$A$2:$N$1321,2,FALSE)","v":"莫涛"},"33127250420","13005三都水族自治县机关事务服务中心","01工作人员"]
[14,{"$f":"VLOOKUP(C16,'[1] 排名'!$A$2:$N$1321,2,FALSE)","v":"包东旭"},"33127252120","13005三都水族自治县机关事务服务中心","01工作人员"]
[15,{"$f":"VLOOKUP(C17,'[1] 排名'!$A$2:$N$1321,2,FALSE)","v":"平洪娟"},"33127250828","13005三都水族自治县机关事务服务中心","01工作人员"]
[16,{"$f":"VLOOKUP(C18,'[1] 排名'!$A$2:$N$1321,2,FALSE)","v":"吴文凯"},"33127251730","13006三都水族自治县法律援助中心","01工作人员"]
[17,{"$f":"VLOOKUP(C19,'[1] 排名'!$A$2:$N$1321,2,FALSE)","v":"韦雅丹"},"33127252329","13006三都水族自治县法律援助中心","01工作人员"]
[18,{"$f":"VLOOKUP(C20,'[1] 排名'!$A$2:$N$1321,2,FALSE)","v":"韦秋燕"},"33127252124","13006三都水族自治县法律援助中心","01工作人员"]
[19,{"$f":"VLOOKUP(C21,'[1] 排名'!$A$2:$N$1321,2,FALSE)","v":"罗玉足"},"33127250702","13007三都水族自治县法制研究所","01工作人员"]
[20,{"$f":"VLOOKUP(C22,'[1] 排名'!$A$2:$N$1321,2,FALSE)","v":"向朝荀"},"33127252009","13007三都水族自治县法制研究所","01工作人员"]
[21,{"$f":"VLOOKUP(C23,'[1] 排名'!$A$2:$N$1321,2,FALSE)","v":"韦耀响"},"33127250127","13007三都水族自治县法制研究所","01工作人员"]
[22,{"$f":"VLOOKUP(C24,'[1] 排名'!$A$2:$N$1321,2,FALSE)","v":"石鸿彩"},"33127250910","13008三都水族自治县应急服务保障中心","01工作人员"]
[23,{"$f":"VLOOKUP(C25,'[1] 排名'!$A$2:$N$1321,2,FALSE)","v":"尚华雨"},"33127250511","13008三都水族自治县应急服务保障中心","01工作人员"]
[24,{"$f":"VLOOKUP(C26,'[1] 排名'!$A$2:$N$1321,2,FALSE)","v":"李园梦"},"33127251301","13008三都水族自治县应急服务保障中心","01工作人员"]
[25,{"$f":"VLOOKUP(C27,'[1] 排名'!$A$2:$N$1321,2,FALSE)","v":"滕燕"},"33127251014","13009三都水族自治县民族宗教综合服务中心","01工作人员"]
[26,{"$f":"VLOOKUP(C28,'[1] 排名'!$A$2:$N$1321,2,FALSE)","v":"潘红利"},"33127250523","13009三都水族自治县民族宗教综合服务中心","01工作人员"]
[27,{"$f":"VLOOKUP(C29,'[1] 排名'!$A$2:$N$1321,2,FALSE)","v":"艾丽"},"33127252226","13009三都水族自治县民族宗教综合服务中心","01工作人员"]
[28,{"$f":"VLOOKUP(C30,'[1] 排名'!$A$2:$N$1321,2,FALSE)","v":"黄胤荣"},"33127251512","13010三都水族自治县种植业发展中心","01工作人员"]
[29,{"$f":"VLOOKUP(C31,'[1] 排名'!$A$2:$N$1321,2,FALSE)","v":"杨承姣"},"33127250724","13010三都水族自治县种植业发展中心","01工作人员"]
[30,{"$f":"VLOOKUP(C32,'[1] 排名'!$A$2:$N$1321,2,FALSE)","v":"吴子韧"},"33127250908","13010三都水族自治县种植业发展中心","02工作人员"]
[31,{"$f":"VLOOKUP(C33,'[1] 排名'!$A$2:$N$1321,2,FALSE)","v":"母爱静"},"33127250522","13010三都水族自治县种植业发展中心","02工作人员"]
[32,{"$f":"VLOOKUP(C34,'[1] 排名'!$A$2:$N$1321,2,FALSE)","v":"艾锦新"},"33127250816","13011三都水族自治县养殖业发展中心","01工作人员"]
[33,{"$f":"VLOOKUP(C35,'[1] 排名'!$A$2:$N$1321,2,FALSE)","v":"田应芳"},"33127250205","13011三都水族自治县养殖业发展中心","01工作人员"]
[34,{"$f":"VLOOKUP(C36,'[1] 排名'!$A$2:$N$1321,2,FALSE)","v":"韦偏"},"33127250809","13011三都水族自治县养殖业发展中心","01工作人员"]
[35,{"$f":"VLOOKUP(C37,'[1] 排名'!$A$2:$N$1321,2,FALSE)","v":"段华刚"},"33127250501","13011三都水族自治县养殖业发展中心","02工作人员"]
[36,{"$f":"VLOOKUP(C38,'[1] 排名'!$A$2:$N$1321,2,FALSE)","v":"谭开跃"},"33127250227","13011三都水族自治县养殖业发展中心","02工作人员"]
[37,{"$f":"VLOOKUP(C39,'[1] 排名'!$A$2:$N$1321,2,FALSE)","v":"姚炳浓"},"33127251714","13011三都水族自治县养殖业发展中心","02工作人员"]
[38,{"$f":"VLOOKUP(C40,'[1] 排名'!$A$2:$N$1321,2,FALSE)","v":"韦爱卷"},"33127252321","13012三都水族自治县动物疫病预防控制中心","01工作人员"]
[39,{"$f":"VLOOKUP(C41,'[1] 排名'!$A$2:$N$1321,2,FALSE)","v":"白贞梅"},"33127252030","13012三都水族自治县动物疫病预防控制中心","01工作人员"]
[40,{"$f":"VLOOKUP(C42,'[1] 排名'!$A$2:$N$1321,2,FALSE)","v":"李丹"},"33127251915","13012三都水族自治县动物疫病预防控制中心","01工作人员"]
[41,{"$f":"VLOOKUP(C43,'[1] 排名'!$A$2:$N$1321,2,FALSE)","v":"莫瑶"},"33127251423","13013三都水族自治县农村经营服务站","01工作人员"]
[42,{"$f":"VLOOKUP(C44,'[1] 排名'!$A$2:$N$1321,2,FALSE)","v":"杨承念"},"33127251601","13013三都水族自治县农村经营服务站","01工作人员"]
[43,{"$f":"VLOOKUP(C45,'[1] 排名'!$A$2:$N$1321,2,FALSE)","v":"韦明丽"},"33127250915","13013三都水族自治县农村经营服务站","01工作人员"]
[44,{"$f":"VLOOKUP(C46,'[1] 排名'!$A$2:$N$1321,2,FALSE)","v":"汪文霖"},"33127251628","13014三都水族自治县市场监督管理信息中心","01工作人员"]
[45,{"$f":"VLOOKUP(C47,'[1] 排名'!$A$2:$N$1321,2,FALSE)","v":"余光洁"},"33127250509","13014三都水族自治县市场监督管理信息中心","01工作人员"]
[46,{"$f":"VLOOKUP(C48,'[1] 排名'!$A$2:$N$1321,2,FALSE)","v":"石学菊"},"33127250330","13014三都水族自治县市场监督管理信息中心","01工作人员"]
[47,{"$f":"VLOOKUP(C49,'[1] 排名'!$A$2:$N$1321,2,FALSE)","v":"韦国凤"},"33127251106","13015三都水族自治县电子商务和信息化服务中心","01工作人员"]
[48,{"$f":"VLOOKUP(C50,'[1] 排名'!$A$2:$N$1321,2,FALSE)","v":"王正胜"},"33127251027","13015三都水族自治县电子商务和信息化服务中心","01工作人员"]
[49,{"$f":"VLOOKUP(C51,'[1] 排名'!$A$2:$N$1321,2,FALSE)","v":"潘承现"},"33127252204","13015三都水族自治县电子商务和信息化服务中心","01工作人员"]
[50,{"$f":"VLOOKUP(C52,'[1] 排名'!$A$2:$N$1321,2,FALSE)","v":"莫鲲鹏"},"33127250413","13016三都水族自治县西部开发服务中心","01工作人员"]
[51,{"$f":"VLOOKUP(C53,'[1] 排名'!$A$2:$N$1321,2,FALSE)","v":"杨胜娟"},"33127250514","13016三都水族自治县西部开发服务中心","01工作人员"]
[52,{"$f":"VLOOKUP(C54,'[1] 排名'!$A$2:$N$1321,2,FALSE)","v":"王炳雪"},"33127250911","13016三都水族自治县西部开发服务中心","01工作人员"]
[53,{"$f":"VLOOKUP(C55,'[1] 排名'!$A$2:$N$1321,2,FALSE)","v":"张洪显"},"33127251225","13017三都水族自治县城乡规划技术审查中心","01工作人员"]
[54,{"$f":"VLOOKUP(C56,'[1] 排名'!$A$2:$N$1321,2,FALSE)","v":"韦正丹"},"33127251708","13017三都水族自治县城乡规划技术审查中心","01工作人员"]
[55,{"$f":"VLOOKUP(C57,'[1] 排名'!$A$2:$N$1321,2,FALSE)","v":"熊飙"},"33127250215","13018三都水族自治县公路建设养护发展中心","01工作人员"]
[56,{"$f":"VLOOKUP(C58,'[1] 排名'!$A$2:$N$1321,2,FALSE)","v":"石竹燕"},"33127251415","13018三都水族自治县公路建设养护发展中心","01工作人员"]
[57,{"$f":"VLOOKUP(C59,'[1] 排名'!$A$2:$N$1321,2,FALSE)","v":"孟登美"},"33127250421","13018三都水族自治县公路建设养护发展中心","01工作人员"]
[58,{"$f":"VLOOKUP(C60,'[1] 排名'!$A$2:$N$1321,2,FALSE)","v":"张义猛"},"33127251929","13019三都水族自治县周覃镇社区综合服务中心","01工作人员"]
[59,{"$f":"VLOOKUP(C61,'[1] 排名'!$A$2:$N$1321,2,FALSE)","v":"覃家奎"},"33127251802","13019三都水族自治县周覃镇社区综合服务中心","01工作人员"]
[60,{"$f":"VLOOKUP(C62,'[1] 排名'!$A$2:$N$1321,2,FALSE)","v":"欧春密"},"33127251823","13019三都水族自治县周覃镇社区综合服务中心","01工作人员"]
[61,{"$f":"VLOOKUP(C63,'[1] 排名'!$A$2:$N$1321,2,FALSE)","v":"覃露池"},"33127250909","13020三都水族自治县周覃镇农业综合服务中心","01工作人员"]
[62,{"$f":"VLOOKUP(C64,'[1] 排名'!$A$2:$N$1321,2,FALSE)","v":"潘文辉"},"33127250618","13020三都水族自治县周覃镇农业综合服务中心","01工作人员"]
[63,{"$f":"VLOOKUP(C65,'[1] 排名'!$A$2:$N$1321,2,FALSE)","v":"黄仁元"},"33127252408","13020三都水族自治县周覃镇农业综合服务中心","01工作人员"]
[64,{"$f":"VLOOKUP(C66,'[1] 排名'!$A$2:$N$1321,2,FALSE)","v":"陆光秋"},"33127251104","13021三都水族自治县周覃镇扶贫工作站","01工作人员"]
[65,{"$f":"VLOOKUP(C67,'[1] 排名'!$A$2:$N$1321,2,FALSE)","v":"吴兴东"},"33127250614","13021三都水族自治县周覃镇扶贫工作站","01工作人员"]
[66,{"$f":"VLOOKUP(C68,'[1] 排名'!$A$2:$N$1321,2,FALSE)","v":"韦兴爽"},"33127251703","13021三都水族自治县周覃镇扶贫工作站","01工作人员"]
[67,{"$f":"VLOOKUP(C69,'[1] 排名'!$A$2:$N$1321,2,FALSE)","v":"平洪燕"},"33127250804","13022三都水族自治县周覃镇廷牌片区社区服务中心","01工作人员"]
[68,{"$f":"VLOOKUP(C70,'[1] 排名'!$A$2:$N$1321,2,FALSE)","v":"韦锦泉"},"33127251609","13022三都水族自治县周覃镇廷牌片区社区服务中心","01工作人员"]
[69,{"$f":"VLOOKUP(C71,'[1] 排名'!$A$2:$N$1321,2,FALSE)","v":"潘洪武"},"33127252116","13022三都水族自治县周覃镇廷牌片区社区服务中心","01工作人员"]
[70,{"$f":"VLOOKUP(C72,'[1] 排名'!$A$2:$N$1321,2,FALSE)","v":"韦成云"},"33127250329","13023三都水族自治县周覃镇人力资源和社会保障服务中心","01工作人员"]
[71,{"$f":"VLOOKUP(C73,'[1] 排名'!$A$2:$N$1321,2,FALSE)","v":"赵久艳"},"33127250628","13023三都水族自治县周覃镇人力资源和社会保障服务中心","01工作人员"]
[72,{"$f":"VLOOKUP(C74,'[1] 排名'!$A$2:$N$1321,2,FALSE)","v":"潘洪算"},"33127251219","13023三都水族自治县周覃镇人力资源和社会保障服务中心","01工作人员"]
[73,{"$f":"VLOOKUP(C75,'[1] 排名'!$A$2:$N$1321,2,FALSE)","v":"潘元栋"},"33127250320","13024三都水族自治县大河镇林业站","01工作人员"]
[74,{"$f":"VLOOKUP(C76,'[1] 排名'!$A$2:$N$1321,2,FALSE)","v":"韦仕管"},"33127250316","13024三都水族自治县大河镇林业站","01工作人员"]
[75,{"$f":"VLOOKUP(C77,'[1] 排名'!$A$2:$N$1321,2,FALSE)","v":"潘洪冲"},"33127251909","13024三都水族自治县大河镇林业站","01工作人员"]
[76,{"$f":"VLOOKUP(C78,'[1] 排名'!$A$2:$N$1321,2,FALSE)","v":"李长炫"},"33127251211","13025三都水族自治县大河镇扶贫工作站","01工作人员"]
[77,{"$f":"VLOOKUP(C79,'[1] 排名'!$A$2:$N$1321,2,FALSE)","v":"汪德祥"},"33127250405","13025三都水族自治县大河镇扶贫工作站","01工作人员"]
[78,{"$f":"VLOOKUP(C80,'[1] 排名'!$A$2:$N$1321,2,FALSE)","v":"许忠跃"},"33127250222","13025三都水族自治县大河镇扶贫工作站","01工作人员"]
[79,{"$f":"VLOOKUP(C81,'[1] 排名'!$A$2:$N$1321,2,FALSE)","v":"李介义"},"33127251813","13026三都水族自治县都江镇财政所","01工作人员"]
[80,{"$f":"VLOOKUP(C82,'[1] 排名'!$A$2:$N$1321,2,FALSE)","v":"刘兴顺"},"33127251006","13026三都水族自治县都江镇财政所","01工作人员"]
[81,{"$f":"VLOOKUP(C83,'[1] 排名'!$A$2:$N$1321,2,FALSE)","v":"白琪琪"},"33127251720","13026三都水族自治县都江镇财政所","01工作人员"]
[82,{"$f":"VLOOKUP(C84,'[1] 排名'!$A$2:$N$1321,2,FALSE)","v":"吴邦宇"},"33127250622","13026三都水族自治县都江镇财政所","02工作人员"]
[83,{"$f":"VLOOKUP(C85,'[1] 排名'!$A$2:$N$1321,2,FALSE)","v":"石本叶"},"33127250228","13026三都水族自治县都江镇财政所","02工作人员"]
[84,{"$f":"VLOOKUP(C86,'[1] 排名'!$A$2:$N$1321,2,FALSE)","v":"莫石通"},"33127251224","13026三都水族自治县都江镇财政所","02工作人员"]
[85,{"$f":"VLOOKUP(C87,'[1] 排名'!$A$2:$N$1321,2,FALSE)","v":"潘建海"},"33127251504","13027三都水族自治县都江镇人力资源和社会保障服务中心","01工作人员"]
[86,{"$f":"VLOOKUP(C88,'[1] 排名'!$A$2:$N$1321,2,FALSE)","v":"包晓梅"},"33127250109","13027三都水族自治县都江镇人力资源和社会保障服务中心","01工作人员"]
[87,{"$f":"VLOOKUP(C89,'[1] 排名'!$A$2:$N$1321,2,FALSE)","v":"吴平根"},"33127252102","13027三都水族自治县都江镇人力资源和社会保障服务中心","01工作人员"]
[88,{"$f":"VLOOKUP(C90,'[1] 排名'!$A$2:$N$1321,2,FALSE)","v":"陆恩祈"},"33127252216","13027三都水族自治县都江镇人力资源和社会保障服务中心","01工作人员"]
[89,{"$f":"VLOOKUP(C91,'[1] 排名'!$A$2:$N$1321,2,FALSE)","v":"陆东海"},"33127250403","13027三都水族自治县都江镇人力资源和社会保障服务中心","01工作人员"]
[90,{"$f":"VLOOKUP(C92,'[1] 排名'!$A$2:$N$1321,2,FALSE)","v":"韦世磊"},"33127252214","13027三都水族自治县都江镇人力资源和社会保障服务中心","01工作人员"]
[91,{"$f":"VLOOKUP(C93,'[1] 排名'!$A$2:$N$1321,2,FALSE)","v":"莫莉利"},"33127251630","13028三都水族自治县都江镇农业技术综合服务中心","01工作人员"]
[92,{"$f":"VLOOKUP(C94,'[1] 排名'!$A$2:$N$1321,2,FALSE)","v":"陆光雷"},"33127250619","13028三都水族自治县都江镇农业技术综合服务中心","01工作人员"]
[93,{"$f":"VLOOKUP(C95,'[1] 排名'!$A$2:$N$1321,2,FALSE)","v":"杨正文"},"33127251506","13029三都水族自治县都江镇安全生产监督管理站","01工作人员"]
[94,{"$f":"VLOOKUP(C96,'[1] 排名'!$A$2:$N$1321,2,FALSE)","v":"韦锦良"},"33127252202","13029三都水族自治县都江镇安全生产监督管理站","01工作人员"]
[95,{"$f":"VLOOKUP(C97,'[1] 排名'!$A$2:$N$1321,2,FALSE)","v":"潘池奎"},"33127250730","13029三都水族自治县都江镇安全生产监督管理站","01工作人员"]
[96,{"$f":"VLOOKUP(C98,'[1] 排名'!$A$2:$N$1321,2,FALSE)","v":"王泽平"},"33127251016","13030三都水族自治县都江镇扶贫工作站","01工作人员"]
[97,{"$f":"VLOOKUP(C99,'[1] 排名'!$A$2:$N$1321,2,FALSE)","v":"侯国荣"},"33127251313","13030三都水族自治县都江镇扶贫工作站","01工作人员"]
[98,{"$f":"VLOOKUP(C100,'[1] 排名'!$A$2:$N$1321,2,FALSE)","v":"刘义勇"},"33127251705","13030三都水族自治县都江镇扶贫工作站","01工作人员"]
[99,{"$f":"VLOOKUP(C101,'[1] 排名'!$A$2:$N$1321,2,FALSE)","v":"莫邦年"},"33127251826","13031三都水族自治县三合街道科技宣教文化信息服务中心","01工作人员"]
[100,{"$f":"VLOOKUP(C102,'[1] 排名'!$A$2:$N$1321,2,FALSE)","v":"覃子腾"},"33127250710","13031三都水族自治县三合街道科技宣教文化信息服务中心","01工作人员"]
[101,{"$f":"VLOOKUP(C103,'[1] 排名'!$A$2:$N$1321,2,FALSE)","v":"覃永媚"},"33127250301","13031三都水族自治县三合街道科技宣教文化信息服务中心","01工作人员"]
[102,{"$f":"VLOOKUP(C104,'[1] 排名'!$A$2:$N$1321,2,FALSE)","v":"王余柔"},"33127250826","13032三都水族自治县三合街道财政所","01工作人员"]
[103,{"$f":"VLOOKUP(C105,'[1] 排名'!$A$2:$N$1321,2,FALSE)","v":"张小妙"},"33127252410","13032三都水族自治县三合街道财政所","01工作人员"]
[104,{"$f":"VLOOKUP(C106,'[1] 排名'!$A$2:$N$1321,2,FALSE)","v":"杨秀美"},"33127250105","13032三都水族自治县三合街道财政所","01工作人员"]
[105,{"$f":"VLOOKUP(C107,'[1] 排名'!$A$2:$N$1321,2,FALSE)","v":"潘玉好"},"33127251418","13033三都水族自治县九阡镇社区综合服务中心","01工作人员"]
[106,{"$f":"VLOOKUP(C108,'[1] 排名'!$A$2:$N$1321,2,FALSE)","v":"潘显霞"},"33127250119","13034三都水族自治县九阡镇人力资源和社会保障服务中心","01工作人员"]
[107,{"$f":"VLOOKUP(C109,'[1] 排名'!$A$2:$N$1321,2,FALSE)","v":"石冲开"},"33127250328","13034三都水族自治县九阡镇人力资源和社会保障服务中心","01工作人员"]
[108,{"$f":"VLOOKUP(C110,'[1] 排名'!$A$2:$N$1321,2,FALSE)","v":"白小娟"},"33127252305","13034三都水族自治县九阡镇人力资源和社会保障服务中心","01工作人员"]
[109,{"$f":"VLOOKUP(C111,'[1] 排名'!$A$2:$N$1321,2,FALSE)","v":"吴婷婷"},"33127251017","13035三都水族自治县九阡镇财政所","01工作人员"]
[110,{"$f":"VLOOKUP(C112,'[1] 排名'!$A$2:$N$1321,2,FALSE)","v":"李智"},"33127250817","13035三都水族自治县九阡镇财政所","01工作人员"]
[111,{"$f":"VLOOKUP(C113,'[1] 排名'!$A$2:$N$1321,2,FALSE)","v":"王治燕"},"33127250630","13035三都水族自治县九阡镇财政所","01工作人员"]
[112,{"$f":"VLOOKUP(C114,'[1] 排名'!$A$2:$N$1321,2,FALSE)","v":"陆义林"},"33127251502","13036三都水族自治县中和镇安全生产监督管理站","01工作人员"]
[113,{"$f":"VLOOKUP(C115,'[1] 排名'!$A$2:$N$1321,2,FALSE)","v":"石本南"},"33127251806","13036三都水族自治县中和镇安全生产监督管理站","01工作人员"]
[114,{"$f":"VLOOKUP(C116,'[1] 排名'!$A$2:$N$1321,2,FALSE)","v":"潘宗望"},"33127251114","13036三都水族自治县中和镇安全生产监督管理站","01工作人员"]
[115,{"$f":"VLOOKUP(C117,'[1] 排名'!$A$2:$N$1321,2,FALSE)","v":"莫春霞"},"33127251028","13037三都水族自治县中和镇扶贫工作站","01工作人员"]
[116,{"$f":"VLOOKUP(C118,'[1] 排名'!$A$2:$N$1321,2,FALSE)","v":"潘利达"},"33127251716","13037三都水族自治县中和镇扶贫工作站","01工作人员"]
[117,{"$f":"VLOOKUP(C119,'[1] 排名'!$A$2:$N$1321,2,FALSE)","v":"杨学丽"},"33127251711","13037三都水族自治县中和镇扶贫工作站","01工作人员"]
[118,{"$f":"VLOOKUP(C120,'[1] 排名'!$A$2:$N$1321,2,FALSE)","v":"蒙永琼"},"33127252404","13038三都水族自治县中和镇人力资源和社会保障服务中心","01工作人员"]
[119,{"$f":"VLOOKUP(C121,'[1] 排名'!$A$2:$N$1321,2,FALSE)","v":"潘洪图"},"33127251302","13038三都水族自治县中和镇人力资源和社会保障服务中心","01工作人员"]
[120,{"$f":"VLOOKUP(C122,'[1] 排名'!$A$2:$N$1321,2,FALSE)","v":"潘银妹"},"33127252027","13038三都水族自治县中和镇人力资源和社会保障服务中心","01工作人员"]
[121,{"$f":"VLOOKUP(C123,'[1] 排名'!$A$2:$N$1321,2,FALSE)","v":"陆小波"},"11127254513","13039三都水族自治县中医院","02专业技术人员"]
[122,{"$f":"VLOOKUP(C124,'[1] 排名'!$A$2:$N$1321,2,FALSE)","v":"韦兴研"},"11127254506","13039三都水族自治县中医院","02专业技术人员"]
[123,{"$f":"VLOOKUP(C125,'[1] 排名'!$A$2:$N$1321,2,FALSE)","v":"李贤儒"},"11127254017","13039三都水族自治县中医院","02专业技术人员"]
[124,{"$f":"VLOOKUP(C126,'[1] 排名'!$A$2:$N$1321,2,FALSE)","v":"岑明潞"},"11127253915","13040三都水族自治县人民医院","01专业技术人员"]
[125,{"$f":"VLOOKUP(C127,'[1] 排名'!$A$2:$N$1321,2,FALSE)","v":"石洪梅"},"11127254127","13040三都水族自治县人民医院","01专业技术人员"]
[126,{"$f":"VLOOKUP(C128,'[1] 排名'!$A$2:$N$1321,2,FALSE)","v":"王余柳"},"11127253909","13040三都水族自治县人民医院","01专业技术人员"]
[127,{"$f":"VLOOKUP(C129,'[1] 排名'!$A$2:$N$1321,2,FALSE)","v":"韦春俭"},"11127253928","13040三都水族自治县人民医院","01专业技术人员"]
[128,{"$f":"VLOOKUP(C130,'[1] 排名'!$A$2:$N$1321,2,FALSE)","v":"韦明秋"},"11127254323","13040三都水族自治县人民医院","01专业技术人员"]
[129,{"$f":"VLOOKUP(C131,'[1] 排名'!$A$2:$N$1321,2,FALSE)","v":"张义曼"},"11127254314","13040三都水族自治县人民医院","01专业技术人员"]
[130,{"$f":"VLOOKUP(C132,'[1] 排名'!$A$2:$N$1321,2,FALSE)","v":"杨幺命"},"11127253918","13040三都水族自治县人民医院","01专业技术人员"]
[131,{"$f":"VLOOKUP(C133,'[1] 排名'!$A$2:$N$1321,2,FALSE)","v":"张世云"},"11127254215","13040三都水族自治县人民医院","02专业技术人员"]
[132,{"$f":"VLOOKUP(C134,'[1] 排名'!$A$2:$N$1321,2,FALSE)","v":"潘国茜"},"11127254015","13040三都水族自治县人民医院","02专业技术人员"]
[133,{"$f":"VLOOKUP(C135,'[1] 排名'!$A$2:$N$1321,2,FALSE)","v":"吴显花"},"11127254016","13040三都水族自治县人民医院","02专业技术人员"]
[134,{"$f":"VLOOKUP(C136,'[1] 排名'!$A$2:$N$1321,2,FALSE)","v":"王传霞"},"11127254317","13040三都水族自治县人民医院","02专业技术人员"]
[135,{"$f":"VLOOKUP(C137,'[1] 排名'!$A$2:$N$1321,2,FALSE)","v":"唐红艳"},"11127254224","13040三都水族自治县人民医院","02专业技术人员"]
[136,{"$f":"VLOOKUP(C138,'[1] 排名'!$A$2:$N$1321,2,FALSE)","v":"杨佳佳"},"11127253912","13040三都水族自治县人民医院","02专业技术人员"]
[137,{"$f":"VLOOKUP(C139,'[1] 排名'!$A$2:$N$1321,2,FALSE)","v":"梁先威"},"11127254318","13040三都水族自治县人民医院","03专业技术人员"]
[138,{"$f":"VLOOKUP(C140,'[1] 排名'!$A$2:$N$1321,2,FALSE)","v":"柏淑煦"},"11127254102","13040三都水族自治县人民医院","03专业技术人员"]
[139,{"$f":"VLOOKUP(C141,'[1] 排名'!$A$2:$N$1321,2,FALSE)","v":"郭雪峰"},"11127254229","13040三都水族自治县人民医院","03专业技术人员"]
[140,{"$f":"VLOOKUP(C142,'[1] 排名'!$A$2:$N$1321,2,FALSE)","v":"吴育翠"},"11127253910","13040三都水族自治县人民医院","03专业技术人员"]
[141,{"$f":"VLOOKUP(C143,'[1] 排名'!$A$2:$N$1321,2,FALSE)","v":"王倩"},"11127254218","13040三都水族自治县人民医院","03专业技术人员"]
[142,{"$f":"VLOOKUP(C144,'[1] 排名'!$A$2:$N$1321,2,FALSE)","v":"莫美全"},"11127254309","13040三都水族自治县人民医院","03专业技术人员"]
[143,{"$f":"VLOOKUP(C145,'[1] 排名'!$A$2:$N$1321,2,FALSE)","v":"刘四花"},"11127254128","13040三都水族自治县人民医院","05专业技术人员"]
[144,{"$f":"VLOOKUP(C146,'[1] 排名'!$A$2:$N$1321,2,FALSE)","v":"李清春"},"11127254020","13040三都水族自治县人民医院","05专业技术人员"]
[145,{"$f":"VLOOKUP(C147,'[1] 排名'!$A$2:$N$1321,2,FALSE)","v":"潘彦桦"},"11127254319","13040三都水族自治县人民医院","05专业技术人员"]
[146,{"$f":"VLOOKUP(C148,'[1] 排名'!$A$2:$N$1321,2,FALSE)","v":"鲁青"},"11127254213","13040三都水族自治县人民医院","05专业技术人员"]
[147,{"$f":"VLOOKUP(C149,'[1] 排名'!$A$2:$N$1321,2,FALSE)","v":"王莎莎"},"11127254518","13040三都水族自治县人民医院","05专业技术人员"]
[148,{"$f":"VLOOKUP(C150,'[1] 排名'!$A$2:$N$1321,2,FALSE)","v":"袁增增"},"11127253906","13040三都水族自治县人民医院","06专业技术人员"]
[149,{"$f":"VLOOKUP(C151,'[1] 排名'!$A$2:$N$1321,2,FALSE)","v":"平洪福"},"11127254226","13040三都水族自治县人民医院","06专业技术人员"]
[150,{"$f":"VLOOKUP(C152,'[1] 排名'!$A$2:$N$1321,2,FALSE)","v":"龙霞"},"11127254407","13040三都水族自治县人民医院","06专业技术人员"]
[151,{"$f":"VLOOKUP(C153,'[1] 排名'!$A$2:$N$1321,2,FALSE)","v":"陈光兴"},"11127253904","13040三都水族自治县人民医院","06专业技术人员"]
[152,{"$f":"VLOOKUP(C154,'[1] 排名'!$A$2:$N$1321,2,FALSE)","v":"杨莉"},"11127254520","13040三都水族自治县人民医院","06专业技术人员"]
[153,{"$f":"VLOOKUP(C155,'[1] 排名'!$A$2:$N$1321,2,FALSE)","v":"龙佳良"},"11127253905","13040三都水族自治县人民医院","06专业技术人员"]
[154,{"$f":"VLOOKUP(C156,'[1] 排名'!$A$2:$N$1321,2,FALSE)","v":"段译翔"},"11127254110","13040三都水族自治县人民医院","07专业技术人员"]
[155,{"$f":"VLOOKUP(C157,'[1] 排名'!$A$2:$N$1321,2,FALSE)","v":"李廷勇"},"11127254217","13040三都水族自治县人民医院","07专业技术人员"]
[156,{"$f":"VLOOKUP(C158,'[1] 排名'!$A$2:$N$1321,2,FALSE)","v":"陈佳丽"},"11127254014","13040三都水族自治县人民医院","07专业技术人员"]
[157,{"$f":"VLOOKUP(C159,'[1] 排名'!$A$2:$N$1321,2,FALSE)","v":"徐建维"},"11127254424","13040三都水族自治县人民医院","08专业技术人员"]
[158,{"$f":"VLOOKUP(C160,'[1] 排名'!$A$2:$N$1321,2,FALSE)","v":"杨金良"},"11127254409","13040三都水族自治县人民医院","08专业技术人员"]
[159,{"$f":"VLOOKUP(C161,'[1] 排名'!$A$2:$N$1321,2,FALSE)","v":"白如娟"},"11127253930","13040三都水族自治县人民医院","08专业技术人员"]
[160,{"$f":"VLOOKUP(C162,'[1] 排名'!$A$2:$N$1321,2,FALSE)","v":"杨桃花"},"11127254117","13040三都水族自治县人民医院","08专业技术人员"]
[161,{"$f":"VLOOKUP(C163,'[1] 排名'!$A$2:$N$1321,2,FALSE)","v":"潘洪艳"},"11127254429","13040三都水族自治县人民医院","08专业技术人员"]
[162,{"$f":"VLOOKUP(C164,'[1] 排名'!$A$2:$N$1321,2,FALSE)","v":"李明通"},"11127254228","13040三都水族自治县人民医院","08专业技术人员"]
[163,{"$f":"VLOOKUP(C165,'[1] 排名'!$A$2:$N$1321,2,FALSE)","v":"杨茂南"},"11127254115","13041三都水族自治县凤羽街道中心卫生院","01专业技术人员"]
[164,{"$f":"VLOOKUP(C166,'[1] 排名'!$A$2:$N$1321,2,FALSE)","v":"赵昌茂"},"11127254230","13042三都水族自治县三合街道中心卫生院","02专业技术人员"]
[165,{"$f":"VLOOKUP(C167,'[1] 排名'!$A$2:$N$1321,2,FALSE)","v":"韦双红"},"11127253917","13042三都水族自治县三合街道中心卫生院","02专业技术人员"]
[166,{"$f":"VLOOKUP(C168,'[1] 排名'!$A$2:$N$1321,2,FALSE)","v":"杨秀英"},"11127254225","13043三都水族自治县扬拱卫生院","01专业技术人员"]
[167,{"$f":"VLOOKUP(C169,'[1] 排名'!$A$2:$N$1321,2,FALSE)","v":"韦胜包"},"11127254125","13043三都水族自治县扬拱卫生院","01专业技术人员"]
[168,{"$f":"VLOOKUP(C170,'[1] 排名'!$A$2:$N$1321,2,FALSE)","v":"韦秀妹"},"11127254211","13043三都水族自治县扬拱卫生院","01专业技术人员"]
[169,{"$f":"VLOOKUP(C171,'[1] 排名'!$A$2:$N$1321,2,FALSE)","v":"潘祖片"},"11127254208","13044三都水族自治县打鱼卫生院","01专业技术人员"]
[170,{"$f":"VLOOKUP(C172,'[1] 排名'!$A$2:$N$1321,2,FALSE)","v":"赵正婵"},"11127254113","13044三都水族自治县打鱼卫生院","01专业技术人员"]
[171,{"$f":"VLOOKUP(C173,'[1] 排名'!$A$2:$N$1321,2,FALSE)","v":"潘红丽"},"11127254328","13044三都水族自治县打鱼卫生院","01专业技术人员"]
[172,{"$f":"VLOOKUP(C174,'[1] 排名'!$A$2:$N$1321,2,FALSE)","v":"吴海燕"},"11127254120","13045三都水族自治县都江镇中心卫生院","02专业技术人员"]
[173,{"$f":"VLOOKUP(C175,'[1] 排名'!$A$2:$N$1321,2,FALSE)","v":"韦亮辉"},"11127254209","13045三都水族自治县都江镇中心卫生院","02专业技术人员"]
[174,{"$f":"VLOOKUP(C176,'[1] 排名'!$A$2:$N$1321,2,FALSE)","v":"韦兴浪"},"11127254316","13045三都水族自治县都江镇中心卫生院","02专业技术人员"]
[175,{"$f":"VLOOKUP(C177,'[1] 排名'!$A$2:$N$1321,2,FALSE)","v":"石敏"},"11127254302","13045三都水族自治县都江镇中心卫生院","03专业技术人员"]
[176,{"$f":"VLOOKUP(C178,'[1] 排名'!$A$2:$N$1321,2,FALSE)","v":"李世周"},"11127254005","13048三都水族自治县中和镇中心卫生院","01专业技术人员"]
[177,{"$f":"VLOOKUP(C179,'[1] 排名'!$A$2:$N$1321,2,FALSE)","v":"杨娇夏"},"11127254222","13048三都水族自治县中和镇中心卫生院","01专业技术人员"]
[178,{"$f":"VLOOKUP(C180,'[1] 排名'!$A$2:$N$1321,2,FALSE)","v":"陈金玉"},"11127254404","13048三都水族自治县中和镇中心卫生院","01专业技术人员"]
[179,{"$f":"VLOOKUP(C181,'[1] 排名'!$A$2:$N$1321,2,FALSE)","v":"蒙帮梦"},"11127254212","13049三都水族自治县周覃镇中心卫生院","01专业技术人员"]
[180,{"$f":"VLOOKUP(C182,'[1] 排名'!$A$2:$N$1321,2,FALSE)","v":"李茂琴"},"11127253926","13049三都水族自治县周覃镇中心卫生院","01专业技术人员"]
[181,{"$f":"VLOOKUP(C183,'[1] 排名'!$A$2:$N$1321,2,FALSE)","v":"罗世先"},"11127254510","13049三都水族自治县周覃镇中心卫生院","01专业技术人员"]
[182,{"$f":"VLOOKUP(C184,'[1] 排名'!$A$2:$N$1321,2,FALSE)","v":"陆凤鸾"},"11127254416","13049三都水族自治县周覃镇中心卫生院","02专业技术人员"]
[183,{"$f":"VLOOKUP(C185,'[1] 排名'!$A$2:$N$1321,2,FALSE)","v":"潘光包"},"11127254201","13050三都水族自治县九阡镇中心卫生院","01专业技术人员"]
[184,{"$f":"VLOOKUP(C186,'[1] 排名'!$A$2:$N$1321,2,FALSE)","v":"韦红鸾"},"22127252728","13051三都水族自治县中和镇三洞社区三洞幼儿园","01幼儿园专任教师"]
[185,{"$f":"VLOOKUP(C187,'[1] 排名'!$A$2:$N$1321,2,FALSE)","v":"杨露露"},"22127253820","13051三都水族自治县中和镇三洞社区三洞幼儿园","01幼儿园专任教师"]
[186,{"$f":"VLOOKUP(C188,'[1] 排名'!$A$2:$N$1321,2,FALSE)","v":"吴荣靖"},"22127253411","13051三都水族自治县中和镇三洞社区三洞幼儿园","01幼儿园专任教师"]
[187,{"$f":"VLOOKUP(C189,'[1] 排名'!$A$2:$N$1321,2,FALSE)","v":"杨月彩"},"22127252624","13052三都水族自治县周覃镇廷牌社区廷牌幼儿园","01幼儿园专任教师"]
[188,{"$f":"VLOOKUP(C190,'[1] 排名'!$A$2:$N$1321,2,FALSE)","v":"韦爽"},"22127253515","13052三都水族自治县周覃镇廷牌社区廷牌幼儿园","01幼儿园专任教师"]
[189,{"$f":"VLOOKUP(C191,'[1] 排名'!$A$2:$N$1321,2,FALSE)","v":"潘秀娇"},"22127252609","13052三都水族自治县周覃镇廷牌社区廷牌幼儿园","01幼儿园专任教师"]
[190,{"$f":"VLOOKUP(C192,'[1] 排名'!$A$2:$N$1321,2,FALSE)","v":"潘金兰"},"22127253626","13053三都水族自治县周覃镇恒丰社区恒丰幼儿园","01幼儿园专任教师"]
[191,{"$f":"VLOOKUP(C193,'[1] 排名'!$A$2:$N$1321,2,FALSE)","v":"张义萍"},"22127252722","13053三都水族自治县周覃镇恒丰社区恒丰幼儿园","01幼儿园专任教师"]
[192,{"$f":"VLOOKUP(C194,'[1] 排名'!$A$2:$N$1321,2,FALSE)","v":"石鸿兰"},"22127252527","13053三都水族自治县周覃镇恒丰社区恒丰幼儿园","01幼儿园专任教师"]
[193,{"$f":"VLOOKUP(C195,'[1] 排名'!$A$2:$N$1321,2,FALSE)","v":"阳新美"},"22127252912","13054三都水族自治县周覃镇周覃社区周覃幼儿园","01幼儿园专任教师"]
[194,{"$f":"VLOOKUP(C196,'[1] 排名'!$A$2:$N$1321,2,FALSE)","v":"覃云秀"},"22127253808","13054三都水族自治县周覃镇周覃社区周覃幼儿园","01幼儿园专任教师"]
[195,{"$f":"VLOOKUP(C197,'[1] 排名'!$A$2:$N$1321,2,FALSE)","v":"周朝顺"},"22127252506","13054三都水族自治县周覃镇周覃社区周覃幼儿园","01幼儿园专任教师"]
[196,{"$f":"VLOOKUP(C198,'[1] 排名'!$A$2:$N$1321,2,FALSE)","v":"张仁柳"},"22127253224","13055三都水族自治县都江镇坝街社区坝街幼儿园","01幼儿园专任教师"]
[197,{"$f":"VLOOKUP(C199,'[1] 排名'!$A$2:$N$1321,2,FALSE)","v":"白广腊"},"22127252724","13055三都水族自治县都江镇坝街社区坝街幼儿园","01幼儿园专任教师"]
[198,{"$f":"VLOOKUP(C200,'[1] 排名'!$A$2:$N$1321,2,FALSE)","v":"韦月仙"},"22127253320","13055三都水族自治县都江镇坝街社区坝街幼儿园","01幼儿园专任教师"]
[199,{"$f":"VLOOKUP(C201,'[1] 排名'!$A$2:$N$1321,2,FALSE)","v":"韦国拟"},"22127253006","13056三都水族自治县中和镇中和社区雪花湖幼儿园","01幼儿园专任教师"]
[200,{"$f":"VLOOKUP(C202,'[1] 排名'!$A$2:$N$1321,2,FALSE)","v":"韦丽娜"},"22127252630","13056三都水族自治县中和镇中和社区雪花湖幼儿园","01幼儿园专任教师"]
[201,{"$f":"VLOOKUP(C203,'[1] 排名'!$A$2:$N$1321,2,FALSE)","v":"王兴丹"},"22127253123","13056三都水族自治县中和镇中和社区雪花湖幼儿园","01幼儿园专任教师"]
[202,{"$f":"VLOOKUP(C204,'[1] 排名'!$A$2:$N$1321,2,FALSE)","v":"陆耀常"},"22127253223","13056三都水族自治县中和镇中和社区雪花湖幼儿园","02幼儿园专任教师"]
[203,{"$f":"VLOOKUP(C205,'[1] 排名'!$A$2:$N$1321,2,FALSE)","v":"潘芳"},"22127253307","13056三都水族自治县中和镇中和社区雪花湖幼儿园","02幼儿园专任教师"]
[204,{"$f":"VLOOKUP(C206,'[1] 排名'!$A$2:$N$1321,2,FALSE)","v":"王治蓉"},"22127252603","13056三都水族自治县中和镇中和社区雪花湖幼儿园","02幼儿园专任教师"]
[205,{"$f":"VLOOKUP(C207,'[1] 排名'!$A$2:$N$1321,2,FALSE)","v":"韦廷倩"},"22127252920","13057三都水族自治县九阡镇九阡社区第二幼儿园","01幼儿园专任教师"]
[206,{"$f":"VLOOKUP(C208,'[1] 排名'!$A$2:$N$1321,2,FALSE)","v":"张蕊"},"22127253322","13057三都水族自治县九阡镇九阡社区第二幼儿园","01幼儿园专任教师"]
[207,{"$f":"VLOOKUP(C209,'[1] 排名'!$A$2:$N$1321,2,FALSE)","v":"王银芬"},"22127253517","13057三都水族自治县九阡镇九阡社区第二幼儿园","01幼儿园专任教师"]
[208,{"$f":"VLOOKUP(C210,'[1] 排名'!$A$2:$N$1321,2,FALSE)","v":"潘小月"},"22127252517","13057三都水族自治县九阡镇九阡社区第二幼儿园","01幼儿园专任教师"]
[209,{"$f":"VLOOKUP(C211,'[1] 排名'!$A$2:$N$1321,2,FALSE)","v":"潘美香"},"22127253511","13057三都水族自治县九阡镇九阡社区第二幼儿园","01幼儿园专任教师"]
[210,{"$f":"VLOOKUP(C212,'[1] 排名'!$A$2:$N$1321,2,FALSE)","v":"潘凤妮"},"22127253715","13057三都水族自治县九阡镇九阡社区第二幼儿园","01幼儿园专任教师"]
[211,{"$f":"VLOOKUP(C213,'[1] 排名'!$A$2:$N$1321,2,FALSE)","v":"潘协宁"},"22127253708","13057三都水族自治县九阡镇九阡社区第二幼儿园","01幼儿园专任教师"]
[212,{"$f":"VLOOKUP(C214,'[1] 排名'!$A$2:$N$1321,2,FALSE)","v":"石锦望"},"22127252902","13057三都水族自治县九阡镇九阡社区第二幼儿园","01幼儿园专任教师"]
[213,{"$f":"VLOOKUP(C215,'[1] 排名'!$A$2:$N$1321,2,FALSE)","v":"潘雪利"},"22127253010","13057三都水族自治县九阡镇九阡社区第二幼儿园","01幼儿园专任教师"]
[214,{"$f":"VLOOKUP(C216,'[1] 排名'!$A$2:$N$1321,2,FALSE)","v":"朱映蓉"},"22127253804","13058三都水族自治县第四小学","01小学音乐专任教师"]
[215,{"$f":"VLOOKUP(C217,'[1] 排名'!$A$2:$N$1321,2,FALSE)","v":"潘佳佳"},"22127252628","13058三都水族自治县第四小学","01小学音乐专任教师"]
[216,{"$f":"VLOOKUP(C218,'[1] 排名'!$A$2:$N$1321,2,FALSE)","v":"谢端华"},"22127253410","13058三都水族自治县第四小学","01小学音乐专任教师"]
[217,{"$f":"VLOOKUP(C219,'[1] 排名'!$A$2:$N$1321,2,FALSE)","v":"任明丽"},"22127252701","13058三都水族自治县第四小学","01小学音乐专任教师"]
[218,{"$f":"VLOOKUP(C220,'[1] 排名'!$A$2:$N$1321,2,FALSE)","v":"吴勤勤"},"22127252819","13058三都水族自治县第四小学","02小学舞蹈专任教师"]
[219,{"$f":"VLOOKUP(C221,'[1] 排名'!$A$2:$N$1321,2,FALSE)","v":"王庆"},"22127253103","13058三都水族自治县第四小学","02小学舞蹈专任教师"]
[220,{"$f":"VLOOKUP(C222,'[1] 排名'!$A$2:$N$1321,2,FALSE)","v":"杨婷"},"22127253513","13058三都水族自治县第四小学","02小学舞蹈专任教师"]
[221,{"$f":"VLOOKUP(C223,'[1] 排名'!$A$2:$N$1321,2,FALSE)","v":"王小燕"},"22127253829","13059三都水族自治县都江镇都江社区小脑小学","01小学英语专任教师"]
[222,{"$f":"VLOOKUP(C224,'[1] 排名'!$A$2:$N$1321,2,FALSE)","v":"韦小聪"},"22127252605","13059三都水族自治县都江镇都江社区小脑小学","01小学英语专任教师"]
[223,{"$f":"VLOOKUP(C225,'[1] 排名'!$A$2:$N$1321,2,FALSE)","v":"潘承云"},"22127253314","13060三都水族自治县都江镇都江社区控抗小学","01小学英语专任教师"]
[224,{"$f":"VLOOKUP(C226,'[1] 排名'!$A$2:$N$1321,2,FALSE)","v":"潘德凤"},"22127253526","13060三都水族自治县都江镇都江社区控抗小学","01小学英语专任教师"]
[225,{"$f":"VLOOKUP(C227,'[1] 排名'!$A$2:$N$1321,2,FALSE)","v":"韦再远"},"22127253821","13060三都水族自治县都江镇都江社区控抗小学","01小学英语专任教师"]
[226,{"$f":"VLOOKUP(C228,'[1] 排名'!$A$2:$N$1321,2,FALSE)","v":"薛佩仙"},"22127252721","13061三都水族自治县都江镇巫不社区高尧小学","01小学语数专任教师"]
[227,{"$f":"VLOOKUP(C229,'[1] 排名'!$A$2:$N$1321,2,FALSE)","v":"蒙正早"},"22127253002","13061三都水族自治县都江镇巫不社区高尧小学","01小学语数专任教师"]
[228,{"$f":"VLOOKUP(C230,'[1] 排名'!$A$2:$N$1321,2,FALSE)","v":"蒙春妹"},"22127253514","13061三都水族自治县都江镇巫不社区高尧小学","01小学语数专任教师"]
[229,{"$f":"VLOOKUP(C231,'[1] 排名'!$A$2:$N$1321,2,FALSE)","v":"蒙帮燕"},"22127253105","13062三都水族自治县都江镇巫不社区党一小学","01小学语数专任教师"]
[230,{"$f":"VLOOKUP(C232,'[1] 排名'!$A$2:$N$1321,2,FALSE)","v":"张义敏"},"22127252730","13062三都水族自治县都江镇巫不社区党一小学","01小学语数专任教师"]
[231,{"$f":"VLOOKUP(C233,'[1] 排名'!$A$2:$N$1321,2,FALSE)","v":"韦红利"},"22127252717","13062三都水族自治县都江镇巫不社区党一小学","01小学语数专任教师"]
[232,{"$f":"VLOOKUP(C234,'[1] 排名'!$A$2:$N$1321,2,FALSE)","v":"刘元香"},"22127253229","13063三都水族自治县周覃镇周覃社区周覃小学","01小学英语专任教师"]
[233,{"$f":"VLOOKUP(C235,'[1] 排名'!$A$2:$N$1321,2,FALSE)","v":"陈璇"},"22127252915","13063三都水族自治县周覃镇周覃社区周覃小学","01小学英语专任教师"]
[234,{"$f":"VLOOKUP(C236,'[1] 排名'!$A$2:$N$1321,2,FALSE)","v":"韦咏洁"},"22127253801","13063三都水族自治县周覃镇周覃社区周覃小学","01小学英语专任教师"]
[235,{"$f":"VLOOKUP(C237,'[1] 排名'!$A$2:$N$1321,2,FALSE)","v":"彭睿"},"22127253616","13063三都水族自治县周覃镇周覃社区周覃小学","02小学音乐专任教师"]
[236,{"$f":"VLOOKUP(C238,'[1] 排名'!$A$2:$N$1321,2,FALSE)","v":"龙贵英"},"22127252508","13063三都水族自治县周覃镇周覃社区周覃小学","02小学音乐专任教师"]
[237,{"$f":"VLOOKUP(C239,'[1] 排名'!$A$2:$N$1321,2,FALSE)","v":"陆跃娇"},"22127252620","13063三都水族自治县周覃镇周覃社区周覃小学","02小学音乐专任教师"]
[238,{"$f":"VLOOKUP(C240,'[1] 排名'!$A$2:$N$1321,2,FALSE)","v":"潘金纱"},"22127253112","13064三都水族自治县周覃镇周覃社区三院小学","01小学语数专任教师"]
[239,{"$f":"VLOOKUP(C241,'[1] 排名'!$A$2:$N$1321,2,FALSE)","v":"岑亮志"},"22127253509","13064三都水族自治县周覃镇周覃社区三院小学","01小学语数专任教师"]
[240,{"$f":"VLOOKUP(C242,'[1] 排名'!$A$2:$N$1321,2,FALSE)","v":"吴忠燕"},"22127253210","13064三都水族自治县周覃镇周覃社区三院小学","01小学语数专任教师"]
[241,{"$f":"VLOOKUP(C243,'[1] 排名'!$A$2:$N$1321,2,FALSE)","v":"韦雪倩"},"22127252521","13065三都水族自治县九阡镇九阡社区九阡民族小学","01小学语数专任教师"]
[242,{"$f":"VLOOKUP(C244,'[1] 排名'!$A$2:$N$1321,2,FALSE)","v":"石本染"},"22127252526","13065三都水族自治县九阡镇九阡社区九阡民族小学","01小学语数专任教师"]
[243,{"$f":"VLOOKUP(C245,'[1] 排名'!$A$2:$N$1321,2,FALSE)","v":"平伶俐"},"22127252602","13065三都水族自治县九阡镇九阡社区九阡民族小学","01小学语数专任教师"]
[244,{"$f":"VLOOKUP(C246,'[1] 排名'!$A$2:$N$1321,2,FALSE)","v":"欧吉燕"},"22127253725","13065三都水族自治县九阡镇九阡社区九阡民族小学","02小学英语专任教师"]
[245,{"$f":"VLOOKUP(C247,'[1] 排名'!$A$2:$N$1321,2,FALSE)","v":"韦兴脸"},"22127253612","13065三都水族自治县九阡镇九阡社区九阡民族小学","02小学英语专任教师"]
[246,{"$f":"VLOOKUP(C248,'[1] 排名'!$A$2:$N$1321,2,FALSE)","v":"杨茂"},"22127252913","13066三都水族自治县九阡镇九阡社区水各小学","01小学英语专任教师"]
[247,{"$f":"VLOOKUP(C249,'[1] 排名'!$A$2:$N$1321,2,FALSE)","v":"杨检"},"22127253518","13067三都水族自治县九阡镇九阡社区母改小学","01小学英语专任教师"]
[248,{"$f":"VLOOKUP(C250,'[1] 排名'!$A$2:$N$1321,2,FALSE)","v":"吴青青"},"22127252522","13067三都水族自治县九阡镇九阡社区母改小学","01小学英语专任教师"]
[249,{"$f":"VLOOKUP(C251,'[1] 排名'!$A$2:$N$1321,2,FALSE)","v":"张仁燕"},"22127253605","13067三都水族自治县九阡镇九阡社区母改小学","01小学英语专任教师"]
[250,{"$f":"VLOOKUP(C252,'[1] 排名'!$A$2:$N$1321,2,FALSE)","v":"杨建萍"},"22127252817","13068三都水族自治县九阡镇九阡社区水昔小学","01小学英语专任教师"]
[251,{"$f":"VLOOKUP(C253,'[1] 排名'!$A$2:$N$1321,2,FALSE)","v":"韦锦强"},"22127253315","13068三都水族自治县九阡镇九阡社区水昔小学","01小学英语专任教师"]
[252,{"$f":"VLOOKUP(C254,'[1] 排名'!$A$2:$N$1321,2,FALSE)","v":"石莎莎"},"22127253629","13068三都水族自治县九阡镇九阡社区水昔小学","01小学英语专任教师"]
[253,{"$f":"VLOOKUP(C255,'[1] 排名'!$A$2:$N$1321,2,FALSE)","v":"杨跃庆"},"22127252514","13069三都水族自治县九阡镇九阡社区红星小学","01小学语数专任教师"]
[254,{"$f":"VLOOKUP(C256,'[1] 排名'!$A$2:$N$1321,2,FALSE)","v":"石晚娘"},"22127253622","13069三都水族自治县九阡镇九阡社区红星小学","01小学语数专任教师"]
[255,{"$f":"VLOOKUP(C257,'[1] 排名'!$A$2:$N$1321,2,FALSE)","v":"潘明成"},"22127253008","13069三都水族自治县九阡镇九阡社区红星小学","01小学语数专任教师"]
[256,{"$f":"VLOOKUP(C258,'[1] 排名'!$A$2:$N$1321,2,FALSE)","v":"张玉华"},"22127253021","13069三都水族自治县九阡镇九阡社区红星小学","02小学英语专任教师"]
[257,{"$f":"VLOOKUP(C259,'[1] 排名'!$A$2:$N$1321,2,FALSE)","v":"刘花里"},"22127253107","13069三都水族自治县九阡镇九阡社区红星小学","02小学英语专任教师"]
[258,{"$f":"VLOOKUP(C260,'[1] 排名'!$A$2:$N$1321,2,FALSE)","v":"蒙威"},"22127252720","13070三都水族自治县九阡镇九阡社区水梅小学","01小学英语专任教师"]
[259,{"$f":"VLOOKUP(C261,'[1] 排名'!$A$2:$N$1321,2,FALSE)","v":"王小燕"},"22127253204","13070三都水族自治县九阡镇九阡社区水梅小学","01小学英语专任教师"]
[260,{"$f":"VLOOKUP(C262,'[1] 排名'!$A$2:$N$1321,2,FALSE)","v":"杨石银"},"22127252702","13070三都水族自治县九阡镇九阡社区水梅小学","01小学英语专任教师"]
[261,{"$f":"VLOOKUP(C263,'[1] 排名'!$A$2:$N$1321,2,FALSE)","v":"王国英"},"22127253613","13071三都水族自治县中和镇中和社区第二小学","01小学语数专任教师"]
[262,{"$f":"VLOOKUP(C264,'[1] 排名'!$A$2:$N$1321,2,FALSE)","v":"王泽艳"},"22127252909","13071三都水族自治县中和镇中和社区第二小学","01小学语数专任教师"]
[263,{"$f":"VLOOKUP(C265,'[1] 排名'!$A$2:$N$1321,2,FALSE)","v":"潘劳慧"},"22127253828","13071三都水族自治县中和镇中和社区第二小学","01小学语数专任教师"]
[264,{"$f":"VLOOKUP(C266,'[1] 排名'!$A$2:$N$1321,2,FALSE)","v":"潘月优"},"22127252615","13071三都水族自治县中和镇中和社区第二小学","01小学语数专任教师"]
[265,{"$f":"VLOOKUP(C267,'[1] 排名'!$A$2:$N$1321,2,FALSE)","v":"梁运由"},"22127252729","13071三都水族自治县中和镇中和社区第二小学","01小学语数专任教师"]
[266,{"$f":"VLOOKUP(C268,'[1] 排名'!$A$2:$N$1321,2,FALSE)","v":"王金莹"},"22127253516","13071三都水族自治县中和镇中和社区第二小学","01小学语数专任教师"]
[267,{"$f":"VLOOKUP(C269,'[1] 排名'!$A$2:$N$1321,2,FALSE)","v":"卢仪"},"22127253705","13072三都水族自治县中和镇三洞社区三洞小学","01小学英语专任教师"]
[268,{"$f":"VLOOKUP(C270,'[1] 排名'!$A$2:$N$1321,2,FALSE)","v":"王业良"},"22127253019","13072三都水族自治县中和镇三洞社区三洞小学","01小学英语专任教师"]
[269,{"$f":"VLOOKUP(C271,'[1] 排名'!$A$2:$N$1321,2,FALSE)","v":"王秋利"},"22127252518","13072三都水族自治县中和镇三洞社区三洞小学","01小学英语专任教师"]